BEGIN:VCALENDAR
VERSION:2.0
PRODID:-//Certified Flourishing Coach - ECPv6.15.20//NONSGML v1.0//EN
CALSCALE:GREGORIAN
METHOD:PUBLISH
X-ORIGINAL-URL:https://certifiedflourishingcoach.com
X-WR-CALDESC:Events for Certified Flourishing Coach
REFRESH-INTERVAL;VALUE=DURATION:PT1H
X-Robots-Tag:noindex
X-PUBLISHED-TTL:PT1H
BEGIN:VTIMEZONE
TZID:America/Toronto
BEGIN:DAYLIGHT
TZOFFSETFROM:-0500
TZOFFSETTO:-0400
TZNAME:EDT
DTSTART:20250309T070000
END:DAYLIGHT
BEGIN:STANDARD
TZOFFSETFROM:-0400
TZOFFSETTO:-0500
TZNAME:EST
DTSTART:20251102T060000
END:STANDARD
BEGIN:DAYLIGHT
TZOFFSETFROM:-0500
TZOFFSETTO:-0400
TZNAME:EDT
DTSTART:20260308T070000
END:DAYLIGHT
BEGIN:STANDARD
TZOFFSETFROM:-0400
TZOFFSETTO:-0500
TZNAME:EST
DTSTART:20261101T060000
END:STANDARD
BEGIN:DAYLIGHT
TZOFFSETFROM:-0500
TZOFFSETTO:-0400
TZNAME:EDT
DTSTART:20270314T070000
END:DAYLIGHT
BEGIN:STANDARD
TZOFFSETFROM:-0400
TZOFFSETTO:-0500
TZNAME:EST
DTSTART:20271107T060000
END:STANDARD
END:VTIMEZONE
BEGIN:VEVENT
DTSTART;TZID=America/Toronto:20260604T130000
DTEND;TZID=America/Toronto:20260604T160000
DTSTAMP:20260422T075703
CREATED:20260302T172123Z
LAST-MODIFIED:20260302T172123Z
UID:10000182-1780578000-1780588800@certifiedflourishingcoach.com
SUMMARY:Certified Flourishing Workplace Culture Coach™  | Jun 4\, 11\, 18 & 25\,  2026
DESCRIPTION:Early Bird price expires May 14\, 2026. From a work perspective\, people who thrive at work and have high levels of well-being have been found to be six times more engaged\, more than 80% less likely to burn out\, almost 30% more productive\, 45% more likely to be satisfied in their job\, and 32% less likely to quit. This certification allows you to confidently coach leaders and team members in corporations\, businesses\, and non-profits on workplace wellbeing. \nWe cover how to support psychological well-being and psychological safety and increase positive work culture\, staff enthusiasm and engagement so that teams can achieve higher productivity\, customer loyalty\, lower turnover\, and higher profitability. Discover the 7 Pillars of a Flourishing Workplace\, the Flourishing Coaching Model for Transformational Change in the Workplace\, along with assessments\, tools\, and templates to implement for high-level results: \n\nA fresh perspective on workplace mental health and wellbeing in both the for-profit and not-for-profit environments\,\nThe 7 Pillars Of A Flourishing Workplace\,\nThe mindset\, tools and skillset to create a flourishing workplace culture\, and to support others to do the same\,\nEvidence-based tools\, assessments\, and templates to support your clients in achieving their workplace culture goals\,\nExperience the Flourishing Workplace Assessment Tool (FWAT)\, Workplace Growth Plan (WGP-One Year)\, Workplace Action Plan (WAP–30 Day)\, and other Workplace tools.\n\n \n\n\nDates & Hours:\n4 Half-Day sessions\, Fridays\nJune 4\, 11\, 18 and 25\, 2026\nFrom 1:00 pm – 4:00 pm MT
URL:https://certifiedflourishingcoach.com/events/certified-flourishing-workplace-culture-coach-jun-4-11-18-25-2026/
LOCATION:Livestream Online
CATEGORIES:Certified Flourishing Coach,Workplace Culture
ATTACH;FMTTYPE=image/png:https://certifiedflourishingcoach.com/wp-content/uploads/2022/08/4-2.png
ORGANIZER;CN="Nicki Straza":MAILTO:nickistraza@strazasolutions.com
END:VEVENT
END:VCALENDAR